BEGIN:VCALENDAR
VERSION:2.0
PRODID:-//Dorfgemeinschaftshaus Mühldorf - ECPv6.15.5//NONSGML v1.0//EN
CALSCALE:GREGORIAN
METHOD:PUBLISH
X-ORIGINAL-URL:https://www.dorfgemeinschaftshaus.at
X-WR-CALDESC:Veranstaltungen für Dorfgemeinschaftshaus Mühldorf
REFRESH-INTERVAL;VALUE=DURATION:PT1H
X-Robots-Tag:noindex
X-PUBLISHED-TTL:PT1H
BEGIN:VTIMEZONE
TZID:Europe/Vienna
BEGIN:DAYLIGHT
TZOFFSETFROM:+0100
TZOFFSETTO:+0200
TZNAME:CEST
DTSTART:20260329T010000
END:DAYLIGHT
BEGIN:STANDARD
TZOFFSETFROM:+0200
TZOFFSETTO:+0100
TZNAME:CET
DTSTART:20261025T010000
END:STANDARD
END:VTIMEZONE
BEGIN:VEVENT
DTSTART;VALUE=DATE:20260425
DTEND;VALUE=DATE:20260426
DTSTAMP:20260424T161024
CREATED:20260317T102019Z
LAST-MODIFIED:20260317T103944Z
UID:11512-1777075200-1777161599@www.dorfgemeinschaftshaus.at
SUMMARY:Frühjahrskonzert Musikverein Mühldorf
DESCRIPTION:Traditionelles Konzert des Musikverein Mühldorf
URL:https://www.dorfgemeinschaftshaus.at/event/fruehjahrskonzert/
LOCATION:Dorfgemeinschaftshaus Mühldorf\, Bergwerkstraße 1\, Mühldorf\, Niederösterreich\, 3622\, Österreich
CATEGORIES:Öffentlich
ORGANIZER;CN="Musikverein M%C3%BChldorf":MAILTO:hmk@wvnet.at
END:VEVENT
END:VCALENDAR