BEGIN:VCALENDAR
VERSION:2.0
PRODID:-//Dorfgemeinschaftshaus Mühldorf - ECPv6.15.5//NONSGML v1.0//EN
CALSCALE:GREGORIAN
METHOD:PUBLISH
X-WR-CALNAME:Dorfgemeinschaftshaus Mühldorf
X-ORIGINAL-URL:https://www.dorfgemeinschaftshaus.at
X-WR-CALDESC:Veranstaltungen für Dorfgemeinschaftshaus Mühldorf
REFRESH-INTERVAL;VALUE=DURATION:PT1H
X-Robots-Tag:noindex
X-PUBLISHED-TTL:PT1H
BEGIN:VTIMEZONE
TZID:Europe/Vienna
BEGIN:DAYLIGHT
TZOFFSETFROM:+0100
TZOFFSETTO:+0200
TZNAME:CEST
DTSTART:20260329T010000
END:DAYLIGHT
BEGIN:STANDARD
TZOFFSETFROM:+0200
TZOFFSETTO:+0100
TZNAME:CET
DTSTART:20261025T010000
END:STANDARD
BEGIN:DAYLIGHT
TZOFFSETFROM:+0100
TZOFFSETTO:+0200
TZNAME:CEST
DTSTART:20270328T010000
END:DAYLIGHT
BEGIN:STANDARD
TZOFFSETFROM:+0200
TZOFFSETTO:+0100
TZNAME:CET
DTSTART:20271031T010000
END:STANDARD
END:VTIMEZONE
BEGIN:VEVENT
DTSTART;VALUE=DATE:20260425
DTEND;VALUE=DATE:20260426
DTSTAMP:20260424T124529
CREATED:20260317T102019Z
LAST-MODIFIED:20260317T103944Z
UID:11512-1777075200-1777161599@www.dorfgemeinschaftshaus.at
SUMMARY:Frühjahrskonzert Musikverein Mühldorf
DESCRIPTION:Traditionelles Konzert des Musikverein Mühldorf
URL:https://www.dorfgemeinschaftshaus.at/event/fruehjahrskonzert/
LOCATION:Dorfgemeinschaftshaus Mühldorf\, Bergwerkstraße 1\, Mühldorf\, Niederösterreich\, 3622\, Österreich
CATEGORIES:Öffentlich
ORGANIZER;CN="Musikverein M%C3%BChldorf":MAILTO:hmk@wvnet.at
END:VEVENT
BEGIN:VEVENT
DTSTART;VALUE=DATE:20260426
DTEND;VALUE=DATE:20260427
DTSTAMP:20260424T124529
CREATED:20260317T102453Z
LAST-MODIFIED:20260317T102453Z
UID:12632-1777161600-1777247999@www.dorfgemeinschaftshaus.at
SUMMARY:TutGut Wandererwachen
DESCRIPTION:
URL:https://www.dorfgemeinschaftshaus.at/event/tutgut-wandererwachen/
LOCATION:Dorfgemeinschaftshaus Mühldorf\, Bergwerkstraße 1\, Mühldorf\, Niederösterreich\, 3622\, Österreich
CATEGORIES:Öffentlich
END:VEVENT
BEGIN:VEVENT
DTSTART;VALUE=DATE:20260507
DTEND;VALUE=DATE:20260508
DTSTAMP:20260424T124529
CREATED:20260317T102552Z
LAST-MODIFIED:20260317T102552Z
UID:12634-1778112000-1778198399@www.dorfgemeinschaftshaus.at
SUMMARY:Privatveranstaltung
DESCRIPTION:
URL:https://www.dorfgemeinschaftshaus.at/event/privatveranstaltung-13/
LOCATION:Dorfgemeinschaftshaus Mühldorf\, Bergwerkstraße 1\, Mühldorf\, Niederösterreich\, 3622\, Österreich
CATEGORIES:Privat
END:VEVENT
BEGIN:VEVENT
DTSTART;VALUE=DATE:20260511
DTEND;VALUE=DATE:20260512
DTSTAMP:20260424T124529
CREATED:20260317T102633Z
LAST-MODIFIED:20260317T102633Z
UID:12636-1778457600-1778543999@www.dorfgemeinschaftshaus.at
SUMMARY:Privatveranstaltung
DESCRIPTION:
URL:https://www.dorfgemeinschaftshaus.at/event/privatveranstaltung-14/
LOCATION:Dorfgemeinschaftshaus Mühldorf\, Bergwerkstraße 1\, Mühldorf\, Niederösterreich\, 3622\, Österreich
CATEGORIES:Privat
END:VEVENT
BEGIN:VEVENT
DTSTART;TZID=Europe/Vienna:20260604T080000
DTEND;TZID=Europe/Vienna:20260607T170000
DTSTAMP:20260424T124529
CREATED:20260317T102938Z
LAST-MODIFIED:20260317T102938Z
UID:12638-1780560000-1780851600@www.dorfgemeinschaftshaus.at
SUMMARY:Privatveranstaltung
DESCRIPTION:
URL:https://www.dorfgemeinschaftshaus.at/event/privatveranstaltung-15/
LOCATION:Dorfgemeinschaftshaus Mühldorf\, Bergwerkstraße 1\, Mühldorf\, Niederösterreich\, 3622\, Österreich
CATEGORIES:Privat
END:VEVENT
BEGIN:VEVENT
DTSTART;VALUE=DATE:20260701
DTEND;VALUE=DATE:20260702
DTSTAMP:20260424T124529
CREATED:20260317T103032Z
LAST-MODIFIED:20260317T103032Z
UID:12640-1782864000-1782950399@www.dorfgemeinschaftshaus.at
SUMMARY:Schlusskonzert der Musikschule
DESCRIPTION:
URL:https://www.dorfgemeinschaftshaus.at/event/schlusskonzert-der-musikschule/
LOCATION:Dorfgemeinschaftshaus Mühldorf\, Bergwerkstraße 1\, Mühldorf\, Niederösterreich\, 3622\, Österreich
CATEGORIES:Öffentlich
ORGANIZER;CN="Musikschulverband Jauerling":MAILTO:office@musikschule-jauerling.at
END:VEVENT
BEGIN:VEVENT
DTSTART;TZID=Europe/Vienna:20260708T080000
DTEND;TZID=Europe/Vienna:20260708T170000
DTSTAMP:20260424T124529
CREATED:20260317T103110Z
LAST-MODIFIED:20260317T103110Z
UID:12642-1783497600-1783530000@www.dorfgemeinschaftshaus.at
SUMMARY:Blutspenden
DESCRIPTION:
URL:https://www.dorfgemeinschaftshaus.at/event/blutspenden-3/
LOCATION:Dorfgemeinschaftshaus Mühldorf\, Bergwerkstraße 1\, Mühldorf\, Niederösterreich\, 3622\, Österreich
CATEGORIES:Öffentlich
END:VEVENT
BEGIN:VEVENT
DTSTART;VALUE=DATE:20260906
DTEND;VALUE=DATE:20260907
DTSTAMP:20260424T124529
CREATED:20260317T103222Z
LAST-MODIFIED:20260317T103222Z
UID:12644-1788652800-1788739199@www.dorfgemeinschaftshaus.at
SUMMARY:Wandertag Pensionistenverein
DESCRIPTION:
URL:https://www.dorfgemeinschaftshaus.at/event/wandertag-pensionistenverein/
LOCATION:Dorfgemeinschaftshaus Mühldorf\, Bergwerkstraße 1\, Mühldorf\, Niederösterreich\, 3622\, Österreich
CATEGORIES:Öffentlich
END:VEVENT
BEGIN:VEVENT
DTSTART;TZID=Europe/Vienna:20261004T080000
DTEND;TZID=Europe/Vienna:20261004T170000
DTSTAMP:20260424T124529
CREATED:20260317T103402Z
LAST-MODIFIED:20260317T103402Z
UID:12648-1791100800-1791133200@www.dorfgemeinschaftshaus.at
SUMMARY:Privatveranstaltung
DESCRIPTION:
URL:https://www.dorfgemeinschaftshaus.at/event/privatveranstaltung-16/
LOCATION:Dorfgemeinschaftshaus Mühldorf\, Bergwerkstraße 1\, Mühldorf\, Niederösterreich\, 3622\, Österreich
CATEGORIES:Privat
END:VEVENT
BEGIN:VEVENT
DTSTART;VALUE=DATE:20261114
DTEND;VALUE=DATE:20261115
DTSTAMP:20260424T124529
CREATED:20260317T103441Z
LAST-MODIFIED:20260317T103441Z
UID:12650-1794614400-1794700799@www.dorfgemeinschaftshaus.at
SUMMARY:Privatveranstaltung
DESCRIPTION:
URL:https://www.dorfgemeinschaftshaus.at/event/privatveranstaltung-17/
LOCATION:Dorfgemeinschaftshaus Mühldorf\, Bergwerkstraße 1\, Mühldorf\, Niederösterreich\, 3622\, Österreich
CATEGORIES:Privat
END:VEVENT
BEGIN:VEVENT
DTSTART;VALUE=DATE:20261230
DTEND;VALUE=DATE:20261231
DTSTAMP:20260424T124529
CREATED:20260317T103311Z
LAST-MODIFIED:20260317T103311Z
UID:12646-1798588800-1798675199@www.dorfgemeinschaftshaus.at
SUMMARY:Blutspenden
DESCRIPTION:
URL:https://www.dorfgemeinschaftshaus.at/event/blutspenden-4/
LOCATION:Dorfgemeinschaftshaus Mühldorf\, Bergwerkstraße 1\, Mühldorf\, Niederösterreich\, 3622\, Österreich
CATEGORIES:Öffentlich
END:VEVENT
BEGIN:VEVENT
DTSTART;VALUE=DATE:20270116
DTEND;VALUE=DATE:20270117
DTSTAMP:20260424T124529
CREATED:20260317T103540Z
LAST-MODIFIED:20260317T103540Z
UID:12652-1800057600-1800143999@www.dorfgemeinschaftshaus.at
SUMMARY:Privatveranstaltung
DESCRIPTION:
URL:https://www.dorfgemeinschaftshaus.at/event/privatveranstaltung-18/
LOCATION:Dorfgemeinschaftshaus Mühldorf\, Bergwerkstraße 1\, Mühldorf\, Niederösterreich\, 3622\, Österreich
CATEGORIES:Privat
END:VEVENT
BEGIN:VEVENT
DTSTART;VALUE=DATE:20270220
DTEND;VALUE=DATE:20270221
DTSTAMP:20260424T124529
CREATED:20260317T103638Z
LAST-MODIFIED:20260317T103638Z
UID:12654-1803081600-1803167999@www.dorfgemeinschaftshaus.at
SUMMARY:Privatveranstaltung
DESCRIPTION:
URL:https://www.dorfgemeinschaftshaus.at/event/privatveranstaltung-19/
LOCATION:Dorfgemeinschaftshaus Mühldorf\, Bergwerkstraße 1\, Mühldorf\, Niederösterreich\, 3622\, Österreich
CATEGORIES:Privat
END:VEVENT
BEGIN:VEVENT
DTSTART;VALUE=DATE:20270313
DTEND;VALUE=DATE:20270314
DTSTAMP:20260424T124529
CREATED:20260317T103732Z
LAST-MODIFIED:20260317T103732Z
UID:12656-1804896000-1804982399@www.dorfgemeinschaftshaus.at
SUMMARY:Privatveranstaltung
DESCRIPTION:
URL:https://www.dorfgemeinschaftshaus.at/event/privatveranstaltung-20/
LOCATION:Dorfgemeinschaftshaus Mühldorf\, Bergwerkstraße 1\, Mühldorf\, Niederösterreich\, 3622\, Österreich
CATEGORIES:Privat
END:VEVENT
END:VCALENDAR