BEGIN:VCALENDAR
VERSION:2.0
PRODID:-//Dorfgemeinschaftshaus Mühldorf - ECPv6.15.5//NONSGML v1.0//EN
CALSCALE:GREGORIAN
METHOD:PUBLISH
X-WR-CALNAME:Dorfgemeinschaftshaus Mühldorf
X-ORIGINAL-URL:https://www.dorfgemeinschaftshaus.at
X-WR-CALDESC:Veranstaltungen für Dorfgemeinschaftshaus Mühldorf
REFRESH-INTERVAL;VALUE=DURATION:PT1H
X-Robots-Tag:noindex
X-PUBLISHED-TTL:PT1H
BEGIN:VTIMEZONE
TZID:Europe/Paris
BEGIN:DAYLIGHT
TZOFFSETFROM:+0100
TZOFFSETTO:+0200
TZNAME:CEST
DTSTART:20260329T010000
END:DAYLIGHT
BEGIN:STANDARD
TZOFFSETFROM:+0200
TZOFFSETTO:+0100
TZNAME:CET
DTSTART:20261025T010000
END:STANDARD
END:VTIMEZONE
BEGIN:VEVENT
DTSTART;TZID=Europe/Paris:20260314T200000
DTEND;TZID=Europe/Paris:20260314T200000
DTSTAMP:20260424T161209
CREATED:20250626T133238Z
LAST-MODIFIED:20251031T104022Z
UID:5943-1773518400-1773518400@www.dorfgemeinschaftshaus.at
SUMMARY:QUEEN THEATRE
DESCRIPTION:« Celebrating the Music of Queen »\nSo haben Sie die Musik von Queen noch nie gehört: Queen Theatre ist die neue\, faszinierende Show von fünf außergewöhnlichen Profimusikern samt einem Frontman\, der dem Gesang Freddie Mercurys wirklich gerecht wird! \nNick Harras (lead voc)\, Michael Buchbinder (git)\, Martin Mader (keys\, voc)\, Alex Heilig (b)\, Mick Glantschnig (dr\, voc) \nKartenvorverkauf\n																														 \noeticket.com\noeticket-Vorverkaufsstellen\n																														 \nCafé ExtraZimmer | 3622 Mühldorf\nausschließlich für Veranstaltungen\nvon Kultur.Kabarett.Kleinkunst.\n																														 \noeticket.com\noeticket-Vorverkaufsstellen\n																														 \nCafé ExtraZimmer | 3622 Mühldorf\nausschließlich für Veranstaltungen\nvon Kultur.Kabarett.Kleinkunst.
URL:https://www.dorfgemeinschaftshaus.at/event/queen-theatre/
LOCATION:Dorfgemeinschaftshaus Mühldorf\, Bergwerkstraße 1\, Mühldorf\, Niederösterreich\, 3622\, Österreich
CATEGORIES:Kultur.Kabarett.Kleinkunst
ATTACH;FMTTYPE=image/png:https://www.dorfgemeinschaftshaus.at/wp-content/Queen_Theatre_Veranstaltung.png
END:VEVENT
END:VCALENDAR